BEGIN:VCALENDAR
VERSION:2.0
PRODID:-//Glaziers Local 513 - ECPv6.15.20//NONSGML v1.0//EN
CALSCALE:GREGORIAN
METHOD:PUBLISH
X-WR-CALNAME:Glaziers Local 513
X-ORIGINAL-URL:https://glaziers513.org
X-WR-CALDESC:Events for Glaziers Local 513
REFRESH-INTERVAL;VALUE=DURATION:PT1H
X-Robots-Tag:noindex
X-PUBLISHED-TTL:PT1H
BEGIN:VTIMEZONE
TZID:America/Chicago
BEGIN:DAYLIGHT
TZOFFSETFROM:-0600
TZOFFSETTO:-0500
TZNAME:CDT
DTSTART:20250309T080000
END:DAYLIGHT
BEGIN:STANDARD
TZOFFSETFROM:-0500
TZOFFSETTO:-0600
TZNAME:CST
DTSTART:20251102T070000
END:STANDARD
BEGIN:DAYLIGHT
TZOFFSETFROM:-0600
TZOFFSETTO:-0500
TZNAME:CDT
DTSTART:20260308T080000
END:DAYLIGHT
BEGIN:STANDARD
TZOFFSETFROM:-0500
TZOFFSETTO:-0600
TZNAME:CST
DTSTART:20261101T070000
END:STANDARD
BEGIN:DAYLIGHT
TZOFFSETFROM:-0600
TZOFFSETTO:-0500
TZNAME:CDT
DTSTART:20270314T080000
END:DAYLIGHT
BEGIN:STANDARD
TZOFFSETFROM:-0500
TZOFFSETTO:-0600
TZNAME:CST
DTSTART:20271107T070000
END:STANDARD
END:VTIMEZONE
BEGIN:VEVENT
DTSTART;TZID=America/Chicago:20260330T070000
DTEND;TZID=America/Chicago:20260330T153000
DTSTAMP:20260423T044435
CREATED:20251222T211824Z
LAST-MODIFIED:20251222T211824Z
UID:10000256-1774854000-1774884600@glaziers513.org
SUMMARY:Glass Cutting 1\, Bits\, Tips\, Taps & Fasteners
DESCRIPTION:Class 8
URL:https://glaziers513.org/event/glass-cutting-1-bits-tips-taps-fasteners/
LOCATION:Glaziers Local 513 Union Hall\, 5916 Wilson Ave\, St Louis\, MO\, 63110\, United States
CATEGORIES:Classes
END:VEVENT
BEGIN:VEVENT
DTSTART;TZID=America/Chicago:20260330T160000
DTEND;TZID=America/Chicago:20260330T183000
DTSTAMP:20260423T044435
CREATED:20260216T221425Z
LAST-MODIFIED:20260216T221425Z
UID:10000280-1774886400-1774895400@glaziers513.org
SUMMARY:Bylaws 3
DESCRIPTION:Class 9
URL:https://glaziers513.org/event/bylaws-3/
LOCATION:Glaziers Local 513 Union Hall\, 5916 Wilson Ave\, St Louis\, MO\, 63110\, United States
CATEGORIES:Classes
END:VEVENT
END:VCALENDAR