BEGIN:VCALENDAR
VERSION:2.0
PRODID:-//Glaziers Local 513 - ECPv6.15.20//NONSGML v1.0//EN
CALSCALE:GREGORIAN
METHOD:PUBLISH
X-ORIGINAL-URL:https://glaziers513.org
X-WR-CALDESC:Events for Glaziers Local 513
REFRESH-INTERVAL;VALUE=DURATION:PT1H
X-Robots-Tag:noindex
X-PUBLISHED-TTL:PT1H
BEGIN:VTIMEZONE
TZID:America/Chicago
BEGIN:DAYLIGHT
TZOFFSETFROM:-0600
TZOFFSETTO:-0500
TZNAME:CDT
DTSTART:20250309T080000
END:DAYLIGHT
BEGIN:STANDARD
TZOFFSETFROM:-0500
TZOFFSETTO:-0600
TZNAME:CST
DTSTART:20251102T070000
END:STANDARD
BEGIN:DAYLIGHT
TZOFFSETFROM:-0600
TZOFFSETTO:-0500
TZNAME:CDT
DTSTART:20260308T080000
END:DAYLIGHT
BEGIN:STANDARD
TZOFFSETFROM:-0500
TZOFFSETTO:-0600
TZNAME:CST
DTSTART:20261101T070000
END:STANDARD
BEGIN:DAYLIGHT
TZOFFSETFROM:-0600
TZOFFSETTO:-0500
TZNAME:CDT
DTSTART:20270314T080000
END:DAYLIGHT
BEGIN:STANDARD
TZOFFSETFROM:-0500
TZOFFSETTO:-0600
TZNAME:CST
DTSTART:20271107T070000
END:STANDARD
END:VTIMEZONE
BEGIN:VEVENT
DTSTART;TZID=America/Chicago:20260317T070000
DTEND;TZID=America/Chicago:20260317T153000
DTSTAMP:20260424T031019
CREATED:20251222T210621Z
LAST-MODIFIED:20251222T210621Z
UID:10000240-1773730800-1773761400@glaziers513.org
SUMMARY:Curtain Wall Practical Test/ (Arc Welding 1)
DESCRIPTION:Class 6
URL:https://glaziers513.org/event/curtain-wall-practical-test-arc-welding-1/
LOCATION:Glaziers Local 513 Union Hall\, 5916 Wilson Ave\, St Louis\, MO\, 63110\, United States
CATEGORIES:Classes
END:VEVENT
END:VCALENDAR